BEGIN:VCALENDAR
VERSION:2.0
PRODID:-//RYNO Strategic Solutions - ECPv6.15.20//NONSGML v1.0//EN
CALSCALE:GREGORIAN
METHOD:PUBLISH
X-WR-CALNAME:RYNO Strategic Solutions
X-ORIGINAL-URL:https://rynoss.com
X-WR-CALDESC:Events for RYNO Strategic Solutions
REFRESH-INTERVAL;VALUE=DURATION:PT1H
X-Robots-Tag:noindex
X-PUBLISHED-TTL:PT1H
BEGIN:VTIMEZONE
TZID:UTC
BEGIN:STANDARD
TZOFFSETFROM:+0000
TZOFFSETTO:+0000
TZNAME:UTC
DTSTART:20240101T000000
END:STANDARD
END:VTIMEZONE
BEGIN:VEVENT
DTSTART;VALUE=DATE:20250204
DTEND;VALUE=DATE:20250207
DTSTAMP:20260420T023320
CREATED:20240808T025858Z
LAST-MODIFIED:20240808T025858Z
UID:10000015-1738627200-1738886399@rynoss.com
SUMMARY:SRC
DESCRIPTION:SRC 2025\nThe SRC Summit is a premier event in the insurance restoration industry\, providing a platform for professionals from across the United States to converge for three days of intensive learning\, networking\, and relationship building. Held at the Frisco Convention Center in Frisco\, Texas\, the summit features workshops\, panels\, presentations\, and extensive networking opportunities. The event is designed to offer strategic knowledge and tools essential for success in storm restoration and related fields​.
URL:https://rynoss.com/event/src/
LOCATION:Frisco Convention Center\, 7600 John Q. Hammons Drive\, Frisco\, TX\, 75034\, United States
CATEGORIES:Roofing,RYNO Attending
ATTACH;FMTTYPE=image/png:https://rynoss.com/wp-content/uploads/SRC.png
END:VEVENT
END:VCALENDAR